BEGIN:VCALENDAR
VERSION:2.0
PRODID:-//BürgerTreff - ECPv6.15.16//NONSGML v1.0//EN
CALSCALE:GREGORIAN
METHOD:PUBLISH
X-WR-CALNAME:BürgerTreff
X-ORIGINAL-URL:https://buergertreff-ki.de
X-WR-CALDESC:Veranstaltungen für BürgerTreff
REFRESH-INTERVAL;VALUE=DURATION:PT1H
X-Robots-Tag:noindex
X-PUBLISHED-TTL:PT1H
BEGIN:VTIMEZONE
TZID:Europe/Berlin
BEGIN:DAYLIGHT
TZOFFSETFROM:+0100
TZOFFSETTO:+0200
TZNAME:CEST
DTSTART:20250330T010000
END:DAYLIGHT
BEGIN:STANDARD
TZOFFSETFROM:+0200
TZOFFSETTO:+0100
TZNAME:CET
DTSTART:20251026T010000
END:STANDARD
BEGIN:DAYLIGHT
TZOFFSETFROM:+0100
TZOFFSETTO:+0200
TZNAME:CEST
DTSTART:20260329T010000
END:DAYLIGHT
BEGIN:STANDARD
TZOFFSETFROM:+0200
TZOFFSETTO:+0100
TZNAME:CET
DTSTART:20261025T010000
END:STANDARD
BEGIN:DAYLIGHT
TZOFFSETFROM:+0100
TZOFFSETTO:+0200
TZNAME:CEST
DTSTART:20270328T010000
END:DAYLIGHT
BEGIN:STANDARD
TZOFFSETFROM:+0200
TZOFFSETTO:+0100
TZNAME:CET
DTSTART:20271031T010000
END:STANDARD
END:VTIMEZONE
BEGIN:VEVENT
DTSTART;TZID=Europe/Berlin:20260421T140000
DTEND;TZID=Europe/Berlin:20260421T160000
DTSTAMP:20260420T144009
CREATED:20260412T141500Z
LAST-MODIFIED:20260412T142010Z
UID:10000590-1776780000-1776787200@buergertreff-ki.de
SUMMARY:Was ist eigentlich Hacking? Teil 2
DESCRIPTION:Achtung: zukünftig finden unsere Workshops / Vorträge an einem DIENSTAG statt\, um den „Seniorenraum“ im 1. Stock der Linde nutzen zu können. \nInhalte des Workshops \n– Weitere Beispiele wie Hacker vorgehen\n– Besseres Verständnis wie das Internet funktioniert\n– Security Aspekte der „Cloud“\n– Empfehlungen wie man sich schützen kann \nDisclaimer\n– Auch diesmal wird nicht gehackt.\n– Dieser Vortrag soll und ist auch keine Anleitung zum Hacking\n– Hacking verstößt gegen geltende Gesetze und ist strafbar \nWir bitten um Anmeldung bis zum 19. April unter folgender \nE-Mail-Adresse:  computerhilfe[at]buergertreff-ki[punkt]de \n 
URL:https://buergertreff-ki.de/event/was-ist-eigentlich-hacking-teil-2/
LOCATION:Mehrgenerationenhaus Linde Seniorentreff\, Alleenstr. 90\, Kirchheim unter Teck\, 73230
CATEGORIES:Computerhilfe,Veranstaltungen
ATTACH;FMTTYPE=image/png:https://buergertreff-ki.de/wp-content/uploads/2026/04/Hacking-2.png
END:VEVENT
BEGIN:VEVENT
DTSTART;TZID=Europe/Berlin:20260427T180000
DTEND;TZID=Europe/Berlin:20260427T200000
DTSTAMP:20260420T144009
CREATED:20260405T084555Z
LAST-MODIFIED:20260415T092609Z
UID:10000589-1777312800-1777320000@buergertreff-ki.de
SUMMARY:Vorträge 'Vorsorgende Papiere' und 'Erbrecht'
DESCRIPTION:Für eine Teilnahme wird um telefonische Anmeldung bis zum 27.4.2026 unter der Nummer  07021 – 47746 gebeten.
URL:https://buergertreff-ki.de/event/vortraege-vorsorgende-papiere-und-erbrecht/
LOCATION:Feuerwehrmuseum Kirchheim\, Henriettenstr. 84\, Kirchheim unter Teck
CATEGORIES:Veranstaltungen
ATTACH;FMTTYPE=image/jpeg:https://buergertreff-ki.de/wp-content/uploads/2026/04/2026-04-05-Vorsorgende-Papiere.jpg
END:VEVENT
BEGIN:VEVENT
DTSTART;TZID=Europe/Berlin:20260503T092000
DTEND;TZID=Europe/Berlin:20260503T170000
DTSTAMP:20260420T144009
CREATED:20260414T075338Z
LAST-MODIFIED:20260414T075338Z
UID:10000591-1777800000-1777827600@buergertreff-ki.de
SUMMARY:Sonntagstour am 3. Mai
DESCRIPTION:Sonntagstouren des BürgerTreffs starten wieder – jetzt unter neuer Leitung \nAb Sonntag\, dem 3. Mai\, heißt es wieder: Rucksack packen und Wanderschuhe schnüren! Die beliebten Sonntagstouren des BürgerTreffs starten in eine neue Saison – erstmals unter neuer Leitung. Von Mai bis Oktober wird an jedem ersten Sonntag im Monat gemeinsam gewandert. \nTreffpunkt ist wie gewohnt der Busbahnhof Kirchheim unter Teck\, von wo aus es mit Bus oder Bahn hinaus in die Natur geht. Die Auftakttour im Mai führt rund um Weilheim an der Teck – über den Egenfirst nach Neidlingen\, dort ist eine gemütliche Einkehrpause vorgesehen\, bevor der Rückweg über Hepsisau zurück nach Weilheim führt. \nDie Abfahrt erfolgt um 9.46 Uhr\, die Rückkehr mit dem Bus ist für 16.15 Uhr oder 16.49 Uhr vorgesehen. Die Strecke ist rund 13 Kilometer lang und hat sowohl im Aufstieg als auch im Abstieg etwa 230 Höhenmeter – also genau richtig für eine genussvolle Tagestour in netter Gesellschaft. \nNeue Mitwandernde sind herzlich willkommen. Wir bitten um Anmeldung im BürgerTreff unter Tel: 07021 47746 oder info[at]buergertreff-ki[punkt]de
URL:https://buergertreff-ki.de/event/sonntagstour-am-3-mai/
LOCATION:Bahnhof Kirchheim unter Teck\, Eugen-Gerstenmaier-Platz 1\, Kirchheim unter Teck\, 73230\, Germany
CATEGORIES:Veranstaltungen
ATTACH;FMTTYPE=image/jpeg:https://buergertreff-ki.de/wp-content/uploads/2026/04/Neidlinger-Wasserfall.jpg
END:VEVENT
BEGIN:VEVENT
DTSTART;TZID=Europe/Berlin:20260512T063000
DTEND;TZID=Europe/Berlin:20260512T183000
DTSTAMP:20260420T144009
CREATED:20260401T040035Z
LAST-MODIFIED:20260402T054203Z
UID:10000584-1778567400-1778610600@buergertreff-ki.de
SUMMARY:Kulturfahrt: Neckarsulm\, Audi AG Werksbesichtigung und Bad Wimpfen\, Stadtführung
DESCRIPTION:Willkommen im Audi Werk Neckarsulm! \nNeckarsulm liegt am Zusammenfluss von Neckar und Sulm\, einem Bach aus den Löwensteiner Bergen\, im Landkreis Heilbronn.\nDie Stadt ist heute vor allem mit dem Audi Werk verbunden. Die Firmengeschichte begann schon 1880\, als die NSU-AG zunächst Nähmaschinen\, Fahrräder\, Motorräder und schließlich Autos produzierte. 1969 fusionierte sie mit der Auto-Union Ingolstadt. Es entstand die Audi NSU Auto Union\, die 1987 zu ihrem heutigen Namen AUDI fand.\nBei einer Werkführung erhalten wir faszinierende Einblicke in die moderne Automobilproduktion. Dort erleben wir\, wie ein Audi Auto entsteht – ein Prozess\, der den Karosseriebau\, die Lackierung und Montage der Komponenten bis zur Qualitätskontrolle umfasst. Unterstützt wird dieser durch hochautomatisierte Robotertechnik\, digital vernetzte Logistik und künstlicher Intelligenz.   Ein beeindruckendes Erlebnis am laufenden Band! \nSchon von weitem begrüßt uns die markante Stadtsilhouette der einst größten mittelalterlichen Königspfalz nördlich der Alpen. In dieser bewehrten Burganlage hielten die Staufer mit ihrem Hofstaat immer wieder Hoftage. Nach dem Niedergang der Staufer wurde Wimpfen bis 1803 Reichsstadt. Der Handel florierte. Kaufleute und Handwerker bauten sich prachtvolle Häuser auf den Felsen hoch über dem Neckar. Mit der 1817 gegründeten Saline Ludwigshalle entwickelte sich Wimpfen zu einem beliebten Kurort\, der sich seit 1930 „Bad Wimpfen“ nennen darf. \nBei einer Führung entdecken wir die Baudenkmäler einer der schönsten Altstädte Deutschlands\, darunter das Wahrzeichen der Stadt\, der Blaue Turm\, das Steinhaus\, die Pfalzkapelle und die Arkaden des ehemaligen Palas. \nAnmeldung:\nab  07.04.2026 \nZahlungstermin:\n21.04.2026 \nPreis:  Mitglieder € 56\,00\, Nichtmitglieder € 61\,00 (Fahrt\, Eintritte\, Führungen) \nSonstiges:\nMindesteilnehmerzahl:  42 Personen\nMaximale Teilnehmerzahl:  48 Personen\, gültige Ausweispapiere! \nAbfahrt:\n06:30 Uhr: Weilheim – Betriebshof Omnibus Fischer\n06:35 Uhr: Jesingen – Rathaus\, – Wartehalle\, Fauslerstraße\, Stadion\n06:40 Uhr: Kirchheim – Freibad\, Teckstraße\n06:50 Uhr: Ziegelwasen \nRückfahrt:\n16.30 Uhr \nOrganisation:\nGabi Weinert\, Anne Hermann
URL:https://buergertreff-ki.de/event/kulturfahrt-neckarsulm-audi-ag-werksbesichtigung-und-bad-wimpfen-stadtfuehrung/
LOCATION:Kulturfahrt
CATEGORIES:Kulturfahrt,Veranstaltungen
ATTACH;FMTTYPE=image/png:https://buergertreff-ki.de/wp-content/uploads/2026/03/Audi.png
END:VEVENT
BEGIN:VEVENT
DTSTART;TZID=Europe/Berlin:20260616T063000
DTEND;TZID=Europe/Berlin:20260616T190000
DTSTAMP:20260420T144009
CREATED:20260401T040029Z
LAST-MODIFIED:20260402T054136Z
UID:10000585-1781591400-1781636400@buergertreff-ki.de
SUMMARY:Kulturfahrt: Führung durch Oberstdorf und Besichtigung der Orlen-Arena (Schattenberg–Schanze)
DESCRIPTION:Mitten im Herzen des bayerischen Allgäus liegt Markt Oberstdorf\, Deutschlands südlichstes Dorf\, umgeben von den Allgäuer Alpen\, darunter dem Nebelhorn\, der Mädelesgabel und dem Großen Krottenkopf\, die eine Höhe von rund 2600 Metern erreichen. Berühmt ist Oberstdorf als Zentrum des Wintersports\, aber auch in den Sommermonaten wartet die Gemeinde mit einer großen Auswahl an wunderschönen Wandererlebnissen auf. Mit einer der vier Bergbahnen kann man hoch hinauffahren\, ein Gipfelkreuz erklimmen oder in einer der urigen Almhütten rasten. Die vielseitige Natur hält auch tosende Wasserfälle und wilde Kluften parat.\nAuch im Ort selbst gibt es viel Sehenswertes. Nach unserer Ankunft nehmen uns erfahrene Gästeführer mit auf eine kleine Zeitreise. Sie zeigen uns die Besonderheiten des historischen und touristischen Oberstdorf mit Fokus auf den „Oberen Markt“. Dabei erfahren wir Wissenswertes\, Überraschendes und Unterhaltsames über die Geschichte\, Kultur und das Leben in einem der bekanntesten Urlaubsorte der Alpen. Ob versteckte Winkel\, traditionsreiche Häuser oder spannende Anekdoten.\nAnschließend lassen wir uns in der Erdinger Sportalm mit Allgäuer Spezialitäten verwöhnen. \nSie liegt inmitten einer der schönsten Skisprungstadien am Fuße des Schattenbergs\, Orlen-Arena genannt. Der Name verweist auf den derzeitigen Sponsor (bis 2022 Audi Arena\, bis 2017 Erdinger Arena). Das Stadion ist weithin bekannt als jährlicher Auf-taktort der Vierschanzentournee und war mehrfacher Austragungsort von Nordischen Skiweltmeisterschaften.\nNachmittags besichtigen wir die Orlen-Arena bei einer Führung. Mit dem gläsernen Aufzug erreichen wir bequem die Panoramaspots\, von denen man Oberstdorf aus der Perspektive eines Skispringers erleben und eine grandiose Aussicht auf die Allgäuer Alpen genießen kann. \nNach der Führung besteht Gelegenheit\, den erlebnisreichen Tag im nahegelegenen Ortszentrum bei einer Tasse Kaffee ausklingen zu lassen. \nAnmeldung:\nab  07.04.2026 \nZahlungstermin:\n25.05.2026 \nPreis:\nMitglieder €69\, Nichtmitglieder € 74 (Fahrt\, Eintritte\, Führungen) \nSonstiges:\nMindesteilnehmerzahl:  42 Personen\nMaximale Teilnehmerzahl:  48 Personen \nAbfahrt:\n06:30 Uhr: Weilheim – Betriebshof Omnibus Fischer\n06:35 Uhr: Jesingen – Rathaus\, – Wartehalle\, Fauslerstraße\, Stadion\n06:40 Uhr: Kirchheim – Freibad\, Teckstraße\n06:50 Uhr: Ziegelwasen \nRückfahrt:\n16.30 Uhr \nOrganisation:\nMarion Hörsch\, Günter Glühmann
URL:https://buergertreff-ki.de/event/kulturfahrt-fuehrung-durch-oberstdorf-und-besichtigung-der-orlen-arena-schattenberg-schanze/
LOCATION:Kulturfahrt
CATEGORIES:Kulturfahrt,Veranstaltungen
ATTACH;FMTTYPE=image/png:https://buergertreff-ki.de/wp-content/uploads/2026/03/Oberstdorf.png
END:VEVENT
BEGIN:VEVENT
DTSTART;TZID=Europe/Berlin:20260717T074000
DTEND;TZID=Europe/Berlin:20260717T190000
DTSTAMP:20260420T144009
CREATED:20260401T040001Z
LAST-MODIFIED:20260402T054119Z
UID:10000586-1784274000-1784314800@buergertreff-ki.de
SUMMARY:Kulturfahrt: Rottweil\, Besichtigung des Thyssen-Turms und Stadtführung
DESCRIPTION:Die Kreisstadt Rottweil liegt am Oberen Neckar zwischen dem Mittleren Schwarzwald im Westen und der Zollernalb im Osten.\nDie älteste Stadt Baden-Württembergs\, ehemalige Reichsstadt mit denkmalgeschützter Altstadt\, Hochburg der schwäbisch-alemannischen Fasnet und Heimat des gleichnamigen Hundes\, gilt auch als „Stadt der Türme“. Seit 2017 wird ihre Silhouette um den Testturm von Thyssenkrupp bereichert. Diese Attraktion steht nun in Kontrast zu den historischen Kirch- und Wehrtürmen aus dem Mittelalter. Vormittags besichtigen wir den Testturm mit Deutschlands höchstgelegener Aussichtsplattform (232 Meter). Von dort haben wir einen spektakulären Rundumblick auf die Schwäbische Alb und den Schwarzwald bis hin zu den Alpen und erfahren spannende Details rund um den Testturm. Genießen Sie den einzigartigen Blick auf die historische Innenstadt und die Region!\nSeit April 2026 gibt es in Rottweil eine weitere Attraktion: Eine Hängebrücke namens „NECKAR LINE“. Mit einer Länge von 606 Metern ist sie die längste Fußgänger-Hängebrücke Süddeutschlands. Sie verläuft in etwa 60 Metern Höhe und verbindet die Stadt mit dem Gelände rund um den Testturm. \nIn der Weinstube Grimm\, gegenüber dem Rottweiler Münster\, werden wir zu Mittag essen. \nNachmittags entdecken wir bei einem geführten Rundgang die historische Altstadt mit ihren prächtigen Bürgerhäusern samt ihren kunstvoll geschmiedeten Stechschildern und farbenfrohen Erkern. Zu den Sehenswürdigkeiten zählen vor allem das Schwarze Tor\, wo am Fasnachts-Montag und -Dienstag alljährlich die berühmten Rottweiler Narrensprünge beginnen. Schön anzusehen sind auch die Kirchen\, das alte Rathaus mit seiner spätgotischen Fassade\, sowie die Brunnen und Türme. Beim Rundgang erfahren wir auch Wissenswertes über die fast 2000 Jahre alte Stadtgeschichte. \nAnschließend besteht noch Gelegenheit\, die „NECKAR LINE“ auf eigene Faust zu begehen. \nAnmeldung:\nab  07.04.2026 \nZahlungstermin:\n26.06.2026 \nPreis:  Mitglieder € 62\,00\, Nichtmitglieder € 67\,00 (Fahrt\, Eintritte\, Führungen) \nSonstiges:\nMindesteilnehmerzahl:  42 Personen\nMaximale Teilnehmerzahl:  48 Personen \nAbfahrt:\n07:40 Uhr: Weilheim – Betriebshof Omnibus Fischer\n07:45 Uhr: Jesingen – Rathaus\, – Wartehalle\, Fauslerstraße\, Stadion\n07:50 Uhr: Kirchheim – Freibad\, Teckstraße\n08:10 Uhr: Ziegelwasen \nRückfahrt:\n17.00 Uhr \nOrganisation:\nJoachim Hörig\, Gabi Weinert \n 
URL:https://buergertreff-ki.de/event/kulturfahrt-rottweil-besichtigung-des-thyssen-turms-und-stadtfuehrung/
LOCATION:Kulturfahrt
CATEGORIES:Kulturfahrt,Veranstaltungen
ATTACH;FMTTYPE=image/png:https://buergertreff-ki.de/wp-content/uploads/2026/03/Rottweil.png
END:VEVENT
BEGIN:VEVENT
DTSTART;TZID=Europe/Berlin:20260908T063000
DTEND;TZID=Europe/Berlin:20260908T200000
DTSTAMP:20260420T144009
CREATED:20260402T061017Z
LAST-MODIFIED:20260402T061017Z
UID:10000588-1788849000-1788897600@buergertreff-ki.de
SUMMARY:Kulturfahrt: Tettnang\, Hopfenmuseum\,  Stadt– und Schlossbesichtigung
DESCRIPTION:Tettnang ist mit rund 20.000 Einwohnern die drittgrößte und die flächengrößte Stadt im Bodenseekreis. Die Stadt ist mit dem Hopfenanbaugebiet Tettnang eng verbunden und führt seit 2025 die Zusatzbezeichnung „Hopfenstadt.“ \nUnser erstes Ziel ist das Hopfengut No. 20. Darin befindet sich das im Jahr 1995 gegründete Tettnanger Hopfenmuseum\, dem damals ersten seiner Art in Deutschland. Im Rahmen einer Führung erfahren wir alles rund um den Tettnanger Hopfen – über die Hopfengeschichte\, die früheren Methoden und Techniken bis zum heutigen Herstellungsprozess. Integriert in den Museumsbetrieb ist ein Hopfenbaubetrieb\, in dem wir  die Verarbeitung des Hopfens live miterleben werden. Das Hopfengut No. 20 vereint sämtliche Bereiche\, die vom Hopfenanbau\, einer Brauerei\, ein Museum und Laden bis hin zu einer Gaststätte reichen\, in die wir zum Mittagessen einkehren.\nAnschließend erwartet uns eine interessante Stadt- und Schlossführung. \nEiner der Höhepunkte des Rundgangs durch die frühere Residenzstadt Tettnang ist das Neue Schloss Tettnang. Majestätisch steht es in der sanften hügeligen Landschaft mit Blick über den Bodensee. Die monumentale Vierflügelanlage mit Ecktürmen zählt zu den schönsten Beispielen oberschwäbischer Barockarchitektur. Für die nach einem Brand 1753 restaurierten Innenräume wurden die berühmtesten Künstler des Bodensee-Raumes verpflichtet. Noch heute beeindruckt das Schloss durch seine hohe künstlerische Qualität. Die Führung bietet auch Einblicke in die wechselvolle Geschichte der Grafen von Montfort\, die in diesem Schloss residierten. Heute ist das Schloss in Landesbesitz. \n  \nAnmeldung:\nab  07.04.2026 \nZahlungstermin:\n27.07.2026 \nPreis:  Mitglieder € 63\,00\, Nichtmitglieder € 68\,00 (Fahrt\, Eintritte\, Führungen) \nSonstiges:\nMindesteilnehmerzahl:  42 Personen\nMaximale Teilnehmerzahl:  48 Personen \nAbfahrt:\n06:30 Uhr: Weilheim – Betriebshof Omnibus Fischer\n06:35 Uhr: Jesingen – Rathaus\, – Wartehalle\, Fauslerstraße\, Stadion\n06:40 Uhr: Kirchheim – Freibad\, Teckstraße\n07:00 Uhr: Ziegelwasen \nRückfahrt:\n18.15 Uhr \nOrganisation:\nKlaus Weinert\, Marion Hörsch \n 
URL:https://buergertreff-ki.de/event/kulturfahrt-tettnang-hopfenmuseum-stadt-und-schlossbesichtigung/
LOCATION:Kulturfahrt
CATEGORIES:Kulturfahrt,Veranstaltungen
ATTACH;FMTTYPE=image/png:https://buergertreff-ki.de/wp-content/uploads/2026/04/Tettnang.png
END:VEVENT
END:VCALENDAR